BEGIN:VCALENDAR
VERSION:2.0
PRODID:-//Page GOP - ECPv6.15.20//NONSGML v1.0//EN
CALSCALE:GREGORIAN
METHOD:PUBLISH
X-WR-CALNAME:Page GOP
X-ORIGINAL-URL:https://pagegop.org
X-WR-CALDESC:Events for Page GOP
REFRESH-INTERVAL;VALUE=DURATION:PT1H
X-Robots-Tag:noindex
X-PUBLISHED-TTL:PT1H
BEGIN:VTIMEZONE
TZID:America/New_York
BEGIN:DAYLIGHT
TZOFFSETFROM:-0500
TZOFFSETTO:-0400
TZNAME:EDT
DTSTART:20230312T070000
END:DAYLIGHT
BEGIN:STANDARD
TZOFFSETFROM:-0400
TZOFFSETTO:-0500
TZNAME:EST
DTSTART:20231105T060000
END:STANDARD
BEGIN:DAYLIGHT
TZOFFSETFROM:-0500
TZOFFSETTO:-0400
TZNAME:EDT
DTSTART:20240310T070000
END:DAYLIGHT
BEGIN:STANDARD
TZOFFSETFROM:-0400
TZOFFSETTO:-0500
TZNAME:EST
DTSTART:20241103T060000
END:STANDARD
BEGIN:DAYLIGHT
TZOFFSETFROM:-0500
TZOFFSETTO:-0400
TZNAME:EDT
DTSTART:20250309T070000
END:DAYLIGHT
BEGIN:STANDARD
TZOFFSETFROM:-0400
TZOFFSETTO:-0500
TZNAME:EST
DTSTART:20251102T060000
END:STANDARD
END:VTIMEZONE
BEGIN:VEVENT
DTSTART;TZID=America/New_York:20240322T180000
DTEND;TZID=America/New_York:20240322T200000
DTSTAMP:20260422T060411
CREATED:20240307T181545Z
LAST-MODIFIED:20240307T182046Z
UID:10000062-1711130400-1711137600@pagegop.org
SUMMARY:Annual Banquet of JMU College Republicans w/ Jason Miyares!
DESCRIPTION:Tickets are $35 (general admin) and $25 (students). \nTo get tickets\, click HERE.
URL:https://pagegop.org/event/club-room-of-bridgeforth-stadium/
LOCATION:Club Room of Bridgeforth Stadium\, 251 Bluestone Dr\, Harrisonburg\, VA\, 822807
END:VEVENT
END:VCALENDAR